BEGIN:VCALENDAR
VERSION:2.0
PRODID:-//Plone.org//NONSGML plone.app.event//EN
X-WR-TIMEZONE:Europe/Amsterdam
BEGIN:VEVENT
SUMMARY:IJSCO Toernooi Apeldoorn (vervolg)
DTSTART;TZID=Europe/Amsterdam;VALUE=DATE-TIME:20200228T110000
DTEND;TZID=Europe/Amsterdam;VALUE=DATE-TIME:20200228T171500
DTSTAMP;VALUE=DATE-TIME:20260422T034200Z
UID:ff9c41d1d485491095077d9654b90ded@www.svdestelling.nl
CONTACT:Ed van der Meulen\, 06 – 4921 3456\, edvdmeulen@gmail.com\, http
 s://www.schaakstad-apeldoorn.nl/blog/jeugd/open-apeldoornse-jeugdschaak-ka
 mpioenschappen/
CREATED;VALUE=DATE-TIME:20200126T123135Z
DESCRIPTION:Tweede dag Jeugdtoernooi
LAST-MODIFIED;VALUE=DATE-TIME:20200202T165426Z
LOCATION:Veluws College Mheenpark\, Duizendschoon 8\, 7322 GZ Apeldoorn
URL:https://www.svdestelling.nl/events/ijsco-toernooi-apeldoorn-vervolg
END:VEVENT
BEGIN:VTIMEZONE
TZID:Europe/Amsterdam
X-LIC-LOCATION:Europe/Amsterdam
BEGIN:STANDARD
DTSTART;VALUE=DATE-TIME:20191027T020000
TZNAME:CET
TZOFFSETFROM:+0200
TZOFFSETTO:+0100
END:STANDARD
END:VTIMEZONE
END:VCALENDAR
