BEGIN:VCALENDAR
VERSION:2.0
PRODID:-//Plone.org//NONSGML plone.app.event//EN
X-WR-TIMEZONE:Europe/Amsterdam
BEGIN:VEVENT
SUMMARY:Schaakinloopavond De Kreek
DTSTART;TZID=Europe/Amsterdam;VALUE=DATE-TIME:20331105T190000
DTEND;TZID=Europe/Amsterdam;VALUE=DATE-TIME:20331105T220000
DTSTAMP;VALUE=DATE-TIME:20260421T121306Z
UID:3228f76fb615413d8e9c38056682c2ee@www.svdestelling.nl
CREATED;VALUE=DATE-TIME:20250607T174551Z
DESCRIPTION:Iedere 1e zaterdag van de maand schaakinloopavond.
LAST-MODIFIED;VALUE=DATE-TIME:20250828T142910Z
URL:https://www.svdestelling.nl/events/schaakinloopavond-de-kreek/2033-11-
 05
END:VEVENT
BEGIN:VTIMEZONE
TZID:Europe/Amsterdam
X-LIC-LOCATION:Europe/Amsterdam
BEGIN:STANDARD
DTSTART;VALUE=DATE-TIME:20331030T020000
TZNAME:CET
TZOFFSETFROM:+0200
TZOFFSETTO:+0100
END:STANDARD
END:VTIMEZONE
END:VCALENDAR
